BEGIN:VCALENDAR
VERSION:2.0
CALSCALE:GREGORIAN
PRODID:adamgibbons/ics
METHOD:PUBLISH
X-PUBLISHED-TTL:PT1H
BEGIN:VEVENT
UID:105@tricity.dance
SUMMARY:Jazz-walks
DTSTAMP:20260421T103430Z
DTSTART:20240721T170000Z
DTEND:20240721T180000Z
DESCRIPTION: 🎷 Welcome to the Historical Walk in the Footsteps of Jazz and 
	Swing in\nGdansk! 🎷\n\nAre you ready for a musical journey through the hea
	rt of Gdansk? This weekend we\ninvite all jazz and history lovers to a uni
	que walk\, during which we will\ndiscover the most important places relate
	d to jazz in our beautiful city! 🌟\n\n\n\n📅 Date: 21.07.\n\n🕒 Time: 19:00\
	n\n📍 Gathering place: American Corner Gdańsk.\n\n \n\n👥 Admission is free!
	 The walk will be led by: Michal Miegon!\n\n \n\nDon't forget to bring a g
	ood mood and comfortable shoes. See you on the trail of\njazz! 🎷💃🕺\n\n
URL:https://tricity.dance/event/jazz-walks
LOCATION:American Corner Gdansk - Targ Rakowy 5/6\, 80-806 Gdańsk
STATUS:CONFIRMED
CATEGORIES:Discussion
X-ALT-DESC;FMTTYPE=text/html:<p>&nbsp;🎷&nbsp;Welcome to the Historical Walk
	 in the Footsteps of Jazz and Swing in Gdansk!&nbsp;🎷</p><p>Are you ready 
	for a musical journey through the heart of Gdansk? This weekend we invite 
	all jazz and history lovers to a unique walk, during which we will discove
	r the most important places related to jazz in our beautiful city!&nbsp;🌟<
	/p><p></p><p>📅&nbsp;Date: 21.07.</p><p>🕒&nbsp;Time: 19:00</p><p>📍&nbsp;Gat
	hering place: American Corner Gdańsk.</p><p>&nbsp;</p><p>👥&nbsp;Admission 
	is free! The walk will be led by: Michal Miegon!</p><p>&nbsp;</p><p>Don't 
	forget to bring a good mood and comfortable shoes. See you on the trail of
	 jazz!&nbsp;🎷💃🕺</p><p></p>
END:VEVENT
END:VCALENDAR
